BEGIN:VCALENDAR
VERSION:2.0
PRODID:-//The J - Detroit - ECPv6.15.18//NONSGML v1.0//EN
CALSCALE:GREGORIAN
METHOD:PUBLISH
X-ORIGINAL-URL:https://thejdetroit.org
X-WR-CALDESC:Events for The J - Detroit
REFRESH-INTERVAL;VALUE=DURATION:PT1H
X-Robots-Tag:noindex
X-PUBLISHED-TTL:PT1H
BEGIN:VTIMEZONE
TZID:America/Detroit
BEGIN:DAYLIGHT
TZOFFSETFROM:-0500
TZOFFSETTO:-0400
TZNAME:EDT
DTSTART:20250309T070000
END:DAYLIGHT
BEGIN:STANDARD
TZOFFSETFROM:-0400
TZOFFSETTO:-0500
TZNAME:EST
DTSTART:20251102T060000
END:STANDARD
BEGIN:DAYLIGHT
TZOFFSETFROM:-0500
TZOFFSETTO:-0400
TZNAME:EDT
DTSTART:20260308T070000
END:DAYLIGHT
BEGIN:STANDARD
TZOFFSETFROM:-0400
TZOFFSETTO:-0500
TZNAME:EST
DTSTART:20261101T060000
END:STANDARD
BEGIN:DAYLIGHT
TZOFFSETFROM:-0500
TZOFFSETTO:-0400
TZNAME:EDT
DTSTART:20270314T070000
END:DAYLIGHT
BEGIN:STANDARD
TZOFFSETFROM:-0400
TZOFFSETTO:-0500
TZNAME:EST
DTSTART:20271107T060000
END:STANDARD
END:VTIMEZONE
BEGIN:VEVENT
DTSTART;TZID=America/Detroit:20260601T100000
DTEND;TZID=America/Detroit:20260601T200000
DTSTAMP:20260419T194542
CREATED:20260224T222008Z
LAST-MODIFIED:20260419T215009Z
UID:10001635-1780308000-1780344000@thejdetroit.org
SUMMARY:SAVE THE DATE! \nFORE THE KIDS - Dr. Larry D Sills Memorial Golf Outing
DESCRIPTION:**SAVE THE DATE** to join us for an unforgettable day of golf in support of\nThe J’s youth programs. Together\, we ‘re ensuring that every child\, regardless\nof financial ability\, can experience the magic of summer at JCC Day Camps. We\ncan’t do it without you! \nView event on Jlive: https://jlive.app/events/12521
URL:https://thejdetroit.org/event/save-the-date-fore-the-kids-dr-larry-d-sills-memorial-golf-outing/
LOCATION:Knollwood Country Club 5050 W Maple Rd\, West Bloomfield
CATEGORIES:Adults,Arrival / Check In,Beverages (non alcoholic),Cocktails and Drinks,College Students,English Speaking,Food,Food Provided,General,Grandparents,Older Adults,Outdoors,Parking (free),Philanthropy,Sports & Fitness,Young Adults
ATTACH;FMTTYPE=image/jpeg:https://thejdetroit.org/wp-content/uploads/2026/02/2026_TheJ_SillsGolf_SaveTheDate_Jlive_960x600-1Gdxp4.jpg
ORGANIZER;CN="The J":MAILTO:info@jccdet.org
END:VEVENT
END:VCALENDAR